BEGIN:VCALENDAR
VERSION:2.0
PRODID:-//見つける！走行会サーチ - ECPv6.6.0.2//NONSGML v1.0//EN
CALSCALE:GREGORIAN
METHOD:PUBLISH
X-WR-CALNAME:見つける！走行会サーチ
X-ORIGINAL-URL:https://soukoukai-search.onesgarage.com
X-WR-CALDESC:見つける！走行会サーチ のイベント
REFRESH-INTERVAL;VALUE=DURATION:PT1H
X-Robots-Tag:noindex
X-PUBLISHED-TTL:PT1H
BEGIN:VTIMEZONE
TZID:Asia/Tokyo
BEGIN:STANDARD
TZOFFSETFROM:+0900
TZOFFSETTO:+0900
TZNAME:JST
DTSTART:20190101T000000
END:STANDARD
END:VTIMEZONE
BEGIN:VEVENT
DTSTART;VALUE=DATE:20191028
DTEND;VALUE=DATE:20191029
DTSTAMP:20260426T114546
CREATED:20191015T001454Z
LAST-MODIFIED:20191015T001454Z
UID:195-1572220800-1572307199@soukoukai-search.onesgarage.com
SUMMARY:第3回 湘南組 滑り練習会
DESCRIPTION:2024年12月4日\n\n		\n\n\n	\n		\n				\n				\n				\n			\n	NOSTALGIA★１日走り放題走行会★ＴＣ１０００		\n				\n					\n		\n					\n		\n				\n						\n					\n			\n						\n				\n							恒例のノスタルジア走り放題TC1000走行会です！ １日走り放題走行会でお好きな時にコースIN&OUTが出来ます。お昼の時間は参加者様による同乗走行時間もあります。ご希望の方のみによるコースイン３台のみのタイムアタックも行います。のす太♪による同乗走行レッスンも常時行っております。ご参加の車種は何でも大丈夫です。お一人様や女性も大歓迎です！お気軽にお申し込み下さい。 費用は計測料＆保険込み１６０００円（１０月ご参加の方＆女性は１５０００円）。 						\n				\n				\n				\n					\n			\n						\n		\n				\n				\n					\n		\n					\n		\n				\n						\n					\n			\n						\n				\n			\n\n		\n				\n				\n				\n			\n\n		\n				\n					\n		\n					\n		\n				\n						\n					\n			\n						\n				\n			開催地		\n				\n				\n				\n							筑波サーキットTC1000 						\n				\n				\n				\n			\n				\n				\n	\n	筑波サーキット\n	\n	\n\n茨城県下妻市村岡 乙１５９\n	\n\n	茨城県\n\n	304-0824\n\n	日本\n\n\n\n\n	+ Google マップ \n\n\n	\n					\n			0296-44-3146			\n	 \n\n\n\n	\n\n\n\n		\n	\n		\n				\n					\n		\n				\n			\n						\n				\n			主催者		\n				\n				\n				\n							ノスタルジアnos_koropeta@yahoo.co.jphttps://nostalgia-fc3s.amebaownd.com/ 						\n				\n					\n		\n					\n		\n				\n						\n					\n			\n						\n				\n			お問い合わせ		\n				\n				\n				\n							One’s Garage担当：石井TEL：080-3094-0681Mail：info@onesgarage.com 						\n				\n				\n				\n			\n	« All イベント\n 		\n				\n				\n				\n			\n	\n		\n\n				DJ走	\n\n\n		\n	\n		RemixFreeRun TC2000ドリフト＆グリップ走行会			\n\n	\n\n		\n				\n					\n		\n					\n		\n				\n						\n					\n			\n						\n				\n			\n	\n\n	Categories:	\n		NOSTALGIA\, TC1000\, グリップ	\n\n		\n				\n					\n		\n				\n			\n						\n				\n			\n	\n	タグ:	\n		\n	NOSTALGIA\,\n\n	TC1000\,\n\n	グリップ\,\n\n	ノスタルジア\,\n\n	筑波サーキット\,\n\n	走り放題\,\n\n	走行会
URL:https://soukoukai-search.onesgarage.com/event/195
LOCATION:富士スピードウェイ\, 静岡県駿東郡小山町中日向６９４\, 静岡県\, 410-1307\, 日本
CATEGORIES:マルチパーパスコース,湘南組,練習会
END:VEVENT
BEGIN:VEVENT
DTSTART;VALUE=DATE:20191027
DTEND;VALUE=DATE:20191028
DTSTAMP:20260426T114547
CREATED:20191015T001708Z
LAST-MODIFIED:20191015T001708Z
UID:199-1572134400-1572220799@soukoukai-search.onesgarage.com
SUMMARY:GRANZ PROJECT　走行会
DESCRIPTION:2024年12月4日\n\n		\n\n\n	\n		\n				\n				\n				\n			\n	NOSTALGIA★１日走り放題走行会★ＴＣ１０００		\n				\n					\n		\n					\n		\n				\n						\n					\n			\n						\n				\n							恒例のノスタルジア走り放題TC1000走行会です！ １日走り放題走行会でお好きな時にコースIN&OUTが出来ます。お昼の時間は参加者様による同乗走行時間もあります。ご希望の方のみによるコースイン３台のみのタイムアタックも行います。のす太♪による同乗走行レッスンも常時行っております。ご参加の車種は何でも大丈夫です。お一人様や女性も大歓迎です！お気軽にお申し込み下さい。 費用は計測料＆保険込み１６０００円（１０月ご参加の方＆女性は１５０００円）。 						\n				\n				\n				\n					\n			\n						\n		\n				\n				\n					\n		\n					\n		\n				\n						\n					\n			\n						\n				\n			\n\n		\n				\n				\n				\n			\n\n		\n				\n					\n		\n					\n		\n				\n						\n					\n			\n						\n				\n			開催地		\n				\n				\n				\n							筑波サーキットTC1000 						\n				\n				\n				\n			\n				\n				\n	\n	筑波サーキット\n	\n	\n\n茨城県下妻市村岡 乙１５９\n	\n\n	茨城県\n\n	304-0824\n\n	日本\n\n\n\n\n	+ Google マップ \n\n\n	\n					\n			0296-44-3146			\n	 \n\n\n\n	\n\n\n\n		\n	\n		\n				\n					\n		\n				\n			\n						\n				\n			主催者		\n				\n				\n				\n							ノスタルジアnos_koropeta@yahoo.co.jphttps://nostalgia-fc3s.amebaownd.com/ 						\n				\n					\n		\n					\n		\n				\n						\n					\n			\n						\n				\n			お問い合わせ		\n				\n				\n				\n							One’s Garage担当：石井TEL：080-3094-0681Mail：info@onesgarage.com 						\n				\n				\n				\n			\n	« All イベント\n 		\n				\n				\n				\n			\n	\n		\n\n				DJ走	\n\n\n		\n	\n		RemixFreeRun TC2000ドリフト＆グリップ走行会			\n\n	\n\n		\n				\n					\n		\n					\n		\n				\n						\n					\n			\n						\n				\n			\n	\n\n	Categories:	\n		NOSTALGIA\, TC1000\, グリップ	\n\n		\n				\n					\n		\n				\n			\n						\n				\n			\n	\n	タグ:	\n		\n	NOSTALGIA\,\n\n	TC1000\,\n\n	グリップ\,\n\n	ノスタルジア\,\n\n	筑波サーキット\,\n\n	走り放題\,\n\n	走行会
URL:https://soukoukai-search.onesgarage.com/event/199
LOCATION:富士スピードウェイ\, 静岡県駿東郡小山町中日向６９４\, 静岡県\, 410-1307\, 日本
CATEGORIES:GRANZ PROJECT,ドリフト,マルチパーパスコース
END:VEVENT
BEGIN:VEVENT
DTSTART;VALUE=DATE:20191026
DTEND;VALUE=DATE:20191027
DTSTAMP:20260426T114547
CREATED:20191008T001229Z
LAST-MODIFIED:20191008T001229Z
UID:174-1572048000-1572134399@soukoukai-search.onesgarage.com
SUMMARY:群サイ練習会 by青鬼
DESCRIPTION:2024年12月4日\n\n		\n\n\n	\n		\n				\n				\n				\n			\n	NOSTALGIA★１日走り放題走行会★ＴＣ１０００		\n				\n					\n		\n					\n		\n				\n						\n					\n			\n						\n				\n							恒例のノスタルジア走り放題TC1000走行会です！ １日走り放題走行会でお好きな時にコースIN&OUTが出来ます。お昼の時間は参加者様による同乗走行時間もあります。ご希望の方のみによるコースイン３台のみのタイムアタックも行います。のす太♪による同乗走行レッスンも常時行っております。ご参加の車種は何でも大丈夫です。お一人様や女性も大歓迎です！お気軽にお申し込み下さい。 費用は計測料＆保険込み１６０００円（１０月ご参加の方＆女性は１５０００円）。 						\n				\n				\n				\n					\n			\n						\n		\n				\n				\n					\n		\n					\n		\n				\n						\n					\n			\n						\n				\n			\n\n		\n				\n				\n				\n			\n\n		\n				\n					\n		\n					\n		\n				\n						\n					\n			\n						\n				\n			開催地		\n				\n				\n				\n							筑波サーキットTC1000 						\n				\n				\n				\n			\n				\n				\n	\n	筑波サーキット\n	\n	\n\n茨城県下妻市村岡 乙１５９\n	\n\n	茨城県\n\n	304-0824\n\n	日本\n\n\n\n\n	+ Google マップ \n\n\n	\n					\n			0296-44-3146			\n	 \n\n\n\n	\n\n\n\n		\n	\n		\n				\n					\n		\n				\n			\n						\n				\n			主催者		\n				\n				\n				\n							ノスタルジアnos_koropeta@yahoo.co.jphttps://nostalgia-fc3s.amebaownd.com/ 						\n				\n					\n		\n					\n		\n				\n						\n					\n			\n						\n				\n			お問い合わせ		\n				\n				\n				\n							One’s Garage担当：石井TEL：080-3094-0681Mail：info@onesgarage.com 						\n				\n				\n				\n			\n	« All イベント\n 		\n				\n				\n				\n			\n	\n		\n\n				DJ走	\n\n\n		\n	\n		RemixFreeRun TC2000ドリフト＆グリップ走行会			\n\n	\n\n		\n				\n					\n		\n					\n		\n				\n						\n					\n			\n						\n				\n			\n	\n\n	Categories:	\n		NOSTALGIA\, TC1000\, グリップ	\n\n		\n				\n					\n		\n				\n			\n						\n				\n			\n	\n	タグ:	\n		\n	NOSTALGIA\,\n\n	TC1000\,\n\n	グリップ\,\n\n	ノスタルジア\,\n\n	筑波サーキット\,\n\n	走り放題\,\n\n	走行会
URL:https://soukoukai-search.onesgarage.com/event/174
LOCATION:群馬サイクルスポーツセンター\, 馬県利根郡みなかみ町新巻３８５３\, 群馬県\, 379-1411\, 日本
CATEGORIES:個人主催,練習会,群馬サイクルスポーツセンター
END:VEVENT
BEGIN:VEVENT
DTSTART;VALUE=DATE:20191020
DTEND;VALUE=DATE:20191021
DTSTAMP:20260426T114547
CREATED:20191008T000852Z
LAST-MODIFIED:20191008T000852Z
UID:170-1571529600-1571615999@soukoukai-search.onesgarage.com
SUMMARY:2＆4バリドリ天国
DESCRIPTION:2024年12月4日\n\n		\n\n\n	\n		\n				\n				\n				\n			\n	NOSTALGIA★１日走り放題走行会★ＴＣ１０００		\n				\n					\n		\n					\n		\n				\n						\n					\n			\n						\n				\n							恒例のノスタルジア走り放題TC1000走行会です！ １日走り放題走行会でお好きな時にコースIN&OUTが出来ます。お昼の時間は参加者様による同乗走行時間もあります。ご希望の方のみによるコースイン３台のみのタイムアタックも行います。のす太♪による同乗走行レッスンも常時行っております。ご参加の車種は何でも大丈夫です。お一人様や女性も大歓迎です！お気軽にお申し込み下さい。 費用は計測料＆保険込み１６０００円（１０月ご参加の方＆女性は１５０００円）。 						\n				\n				\n				\n					\n			\n						\n		\n				\n				\n					\n		\n					\n		\n				\n						\n					\n			\n						\n				\n			\n\n		\n				\n				\n				\n			\n\n		\n				\n					\n		\n					\n		\n				\n						\n					\n			\n						\n				\n			開催地		\n				\n				\n				\n							筑波サーキットTC1000 						\n				\n				\n				\n			\n				\n				\n	\n	筑波サーキット\n	\n	\n\n茨城県下妻市村岡 乙１５９\n	\n\n	茨城県\n\n	304-0824\n\n	日本\n\n\n\n\n	+ Google マップ \n\n\n	\n					\n			0296-44-3146			\n	 \n\n\n\n	\n\n\n\n		\n	\n		\n				\n					\n		\n				\n			\n						\n				\n			主催者		\n				\n				\n				\n							ノスタルジアnos_koropeta@yahoo.co.jphttps://nostalgia-fc3s.amebaownd.com/ 						\n				\n					\n		\n					\n		\n				\n						\n					\n			\n						\n				\n			お問い合わせ		\n				\n				\n				\n							One’s Garage担当：石井TEL：080-3094-0681Mail：info@onesgarage.com 						\n				\n				\n				\n			\n	« All イベント\n 		\n				\n				\n				\n			\n	\n		\n\n				DJ走	\n\n\n		\n	\n		RemixFreeRun TC2000ドリフト＆グリップ走行会			\n\n	\n\n		\n				\n					\n		\n					\n		\n				\n						\n					\n			\n						\n				\n			\n	\n\n	Categories:	\n		NOSTALGIA\, TC1000\, グリップ	\n\n		\n				\n					\n		\n				\n			\n						\n				\n			\n	\n	タグ:	\n		\n	NOSTALGIA\,\n\n	TC1000\,\n\n	グリップ\,\n\n	ノスタルジア\,\n\n	筑波サーキット\,\n\n	走り放題\,\n\n	走行会
URL:https://soukoukai-search.onesgarage.com/event/170
LOCATION:茂原ツインサーキット\, 千葉県茂原市台田６４０\, 千葉県\, 297-0044\, 日本
CATEGORIES:ドリフト,バリドリスタッフ
END:VEVENT
BEGIN:VEVENT
DTSTART;VALUE=DATE:20191018
DTEND;VALUE=DATE:20191019
DTSTAMP:20260426T114547
CREATED:20191008T002204Z
LAST-MODIFIED:20191008T002204Z
UID:184-1571356800-1571443199@soukoukai-search.onesgarage.com
SUMMARY:Realstyle 走行会
DESCRIPTION:2024年12月4日\n\n		\n\n\n	\n		\n				\n				\n				\n			\n	NOSTALGIA★１日走り放題走行会★ＴＣ１０００		\n				\n					\n		\n					\n		\n				\n						\n					\n			\n						\n				\n							恒例のノスタルジア走り放題TC1000走行会です！ １日走り放題走行会でお好きな時にコースIN&OUTが出来ます。お昼の時間は参加者様による同乗走行時間もあります。ご希望の方のみによるコースイン３台のみのタイムアタックも行います。のす太♪による同乗走行レッスンも常時行っております。ご参加の車種は何でも大丈夫です。お一人様や女性も大歓迎です！お気軽にお申し込み下さい。 費用は計測料＆保険込み１６０００円（１０月ご参加の方＆女性は１５０００円）。 						\n				\n				\n				\n					\n			\n						\n		\n				\n				\n					\n		\n					\n		\n				\n						\n					\n			\n						\n				\n			\n\n		\n				\n				\n				\n			\n\n		\n				\n					\n		\n					\n		\n				\n						\n					\n			\n						\n				\n			開催地		\n				\n				\n				\n							筑波サーキットTC1000 						\n				\n				\n				\n			\n				\n				\n	\n	筑波サーキット\n	\n	\n\n茨城県下妻市村岡 乙１５９\n	\n\n	茨城県\n\n	304-0824\n\n	日本\n\n\n\n\n	+ Google マップ \n\n\n	\n					\n			0296-44-3146			\n	 \n\n\n\n	\n\n\n\n		\n	\n		\n				\n					\n		\n				\n			\n						\n				\n			主催者		\n				\n				\n				\n							ノスタルジアnos_koropeta@yahoo.co.jphttps://nostalgia-fc3s.amebaownd.com/ 						\n				\n					\n		\n					\n		\n				\n						\n					\n			\n						\n				\n			お問い合わせ		\n				\n				\n				\n							One’s Garage担当：石井TEL：080-3094-0681Mail：info@onesgarage.com 						\n				\n				\n				\n			\n	« All イベント\n 		\n				\n				\n				\n			\n	\n		\n\n				DJ走	\n\n\n		\n	\n		RemixFreeRun TC2000ドリフト＆グリップ走行会			\n\n	\n\n		\n				\n					\n		\n					\n		\n				\n						\n					\n			\n						\n				\n			\n	\n\n	Categories:	\n		NOSTALGIA\, TC1000\, グリップ	\n\n		\n				\n					\n		\n				\n			\n						\n				\n			\n	\n	タグ:	\n		\n	NOSTALGIA\,\n\n	TC1000\,\n\n	グリップ\,\n\n	ノスタルジア\,\n\n	筑波サーキット\,\n\n	走り放題\,\n\n	走行会
URL:https://soukoukai-search.onesgarage.com/event/184
LOCATION:富士スピードウェイ\, 静岡県駿東郡小山町中日向６９４\, 静岡県\, 410-1307\, 日本
CATEGORIES:Realstyle,ドリフト,マルチパーパスコース
END:VEVENT
BEGIN:VEVENT
DTSTART;VALUE=DATE:20191016
DTEND;VALUE=DATE:20191017
DTSTAMP:20260426T114547
CREATED:20191008T002347Z
LAST-MODIFIED:20191008T002347Z
UID:187-1571184000-1571270399@soukoukai-search.onesgarage.com
SUMMARY:ドリフト＆グリップ走行会
DESCRIPTION:2024年12月4日\n\n		\n\n\n	\n		\n				\n				\n				\n			\n	NOSTALGIA★１日走り放題走行会★ＴＣ１０００		\n				\n					\n		\n					\n		\n				\n						\n					\n			\n						\n				\n							恒例のノスタルジア走り放題TC1000走行会です！ １日走り放題走行会でお好きな時にコースIN&OUTが出来ます。お昼の時間は参加者様による同乗走行時間もあります。ご希望の方のみによるコースイン３台のみのタイムアタックも行います。のす太♪による同乗走行レッスンも常時行っております。ご参加の車種は何でも大丈夫です。お一人様や女性も大歓迎です！お気軽にお申し込み下さい。 費用は計測料＆保険込み１６０００円（１０月ご参加の方＆女性は１５０００円）。 						\n				\n				\n				\n					\n			\n						\n		\n				\n				\n					\n		\n					\n		\n				\n						\n					\n			\n						\n				\n			\n\n		\n				\n				\n				\n			\n\n		\n				\n					\n		\n					\n		\n				\n						\n					\n			\n						\n				\n			開催地		\n				\n				\n				\n							筑波サーキットTC1000 						\n				\n				\n				\n			\n				\n				\n	\n	筑波サーキット\n	\n	\n\n茨城県下妻市村岡 乙１５９\n	\n\n	茨城県\n\n	304-0824\n\n	日本\n\n\n\n\n	+ Google マップ \n\n\n	\n					\n			0296-44-3146			\n	 \n\n\n\n	\n\n\n\n		\n	\n		\n				\n					\n		\n				\n			\n						\n				\n			主催者		\n				\n				\n				\n							ノスタルジアnos_koropeta@yahoo.co.jphttps://nostalgia-fc3s.amebaownd.com/ 						\n				\n					\n		\n					\n		\n				\n						\n					\n			\n						\n				\n			お問い合わせ		\n				\n				\n				\n							One’s Garage担当：石井TEL：080-3094-0681Mail：info@onesgarage.com 						\n				\n				\n				\n			\n	« All イベント\n 		\n				\n				\n				\n			\n	\n		\n\n				DJ走	\n\n\n		\n	\n		RemixFreeRun TC2000ドリフト＆グリップ走行会			\n\n	\n\n		\n				\n					\n		\n					\n		\n				\n						\n					\n			\n						\n				\n			\n	\n\n	Categories:	\n		NOSTALGIA\, TC1000\, グリップ	\n\n		\n				\n					\n		\n				\n			\n						\n				\n			\n	\n	タグ:	\n		\n	NOSTALGIA\,\n\n	TC1000\,\n\n	グリップ\,\n\n	ノスタルジア\,\n\n	筑波サーキット\,\n\n	走り放題\,\n\n	走行会
URL:https://soukoukai-search.onesgarage.com/event/187
LOCATION:日光サーキット\, 栃木県宇都宮市高松町984\, 栃木県\, 321-0416\, 日本
CATEGORIES:YMS,グリップ,ドリフト,日光サーキット
END:VEVENT
BEGIN:VEVENT
DTSTART;VALUE=DATE:20191013
DTEND;VALUE=DATE:20191014
DTSTAMP:20260426T114547
CREATED:20191008T002601Z
LAST-MODIFIED:20191008T002601Z
UID:190-1570924800-1571011199@soukoukai-search.onesgarage.com
SUMMARY:TEC-ART’S　サーキットフェスティバル2019
DESCRIPTION:2024年12月4日\n\n		\n\n\n	\n		\n				\n				\n				\n			\n	NOSTALGIA★１日走り放題走行会★ＴＣ１０００		\n				\n					\n		\n					\n		\n				\n						\n					\n			\n						\n				\n							恒例のノスタルジア走り放題TC1000走行会です！ １日走り放題走行会でお好きな時にコースIN&OUTが出来ます。お昼の時間は参加者様による同乗走行時間もあります。ご希望の方のみによるコースイン３台のみのタイムアタックも行います。のす太♪による同乗走行レッスンも常時行っております。ご参加の車種は何でも大丈夫です。お一人様や女性も大歓迎です！お気軽にお申し込み下さい。 費用は計測料＆保険込み１６０００円（１０月ご参加の方＆女性は１５０００円）。 						\n				\n				\n				\n					\n			\n						\n		\n				\n				\n					\n		\n					\n		\n				\n						\n					\n			\n						\n				\n			\n\n		\n				\n				\n				\n			\n\n		\n				\n					\n		\n					\n		\n				\n						\n					\n			\n						\n				\n			開催地		\n				\n				\n				\n							筑波サーキットTC1000 						\n				\n				\n				\n			\n				\n				\n	\n	筑波サーキット\n	\n	\n\n茨城県下妻市村岡 乙１５９\n	\n\n	茨城県\n\n	304-0824\n\n	日本\n\n\n\n\n	+ Google マップ \n\n\n	\n					\n			0296-44-3146			\n	 \n\n\n\n	\n\n\n\n		\n	\n		\n				\n					\n		\n				\n			\n						\n				\n			主催者		\n				\n				\n				\n							ノスタルジアnos_koropeta@yahoo.co.jphttps://nostalgia-fc3s.amebaownd.com/ 						\n				\n					\n		\n					\n		\n				\n						\n					\n			\n						\n				\n			お問い合わせ		\n				\n				\n				\n							One’s Garage担当：石井TEL：080-3094-0681Mail：info@onesgarage.com 						\n				\n				\n				\n			\n	« All イベント\n 		\n				\n				\n				\n			\n	\n		\n\n				DJ走	\n\n\n		\n	\n		RemixFreeRun TC2000ドリフト＆グリップ走行会			\n\n	\n\n		\n				\n					\n		\n					\n		\n				\n						\n					\n			\n						\n				\n			\n	\n\n	Categories:	\n		NOSTALGIA\, TC1000\, グリップ	\n\n		\n				\n					\n		\n				\n			\n						\n				\n			\n	\n	タグ:	\n		\n	NOSTALGIA\,\n\n	TC1000\,\n\n	グリップ\,\n\n	ノスタルジア\,\n\n	筑波サーキット\,\n\n	走り放題\,\n\n	走行会
URL:https://soukoukai-search.onesgarage.com/event/190
LOCATION:日光サーキット\, 栃木県宇都宮市高松町984\, 栃木県\, 321-0416\, 日本
CATEGORIES:TEC-ART'S,グリップ,ドリフト,日光サーキット
END:VEVENT
END:VCALENDAR