BEGIN:VCALENDAR
VERSION:2.0
PRODID:-//見つける！走行会サーチ - ECPv6.6.0.2//NONSGML v1.0//EN
CALSCALE:GREGORIAN
METHOD:PUBLISH
X-ORIGINAL-URL:https://soukoukai-search.onesgarage.com
X-WR-CALDESC:見つける！走行会サーチ のイベント
REFRESH-INTERVAL;VALUE=DURATION:PT1H
X-Robots-Tag:noindex
X-PUBLISHED-TTL:PT1H
BEGIN:VTIMEZONE
TZID:Asia/Tokyo
BEGIN:STANDARD
TZOFFSETFROM:+0900
TZOFFSETTO:+0900
TZNAME:JST
DTSTART:20250101T000000
END:STANDARD
END:VTIMEZONE
BEGIN:VEVENT
DTSTART;VALUE=DATE:20250428
DTEND;VALUE=DATE:20250429
DTSTAMP:20260421T114338
CREATED:20250409T153125Z
LAST-MODIFIED:20250409T153501Z
UID:6052-1745798400-1745884799@soukoukai-search.onesgarage.com
SUMMARY:team六連星　第141回走行会　日光サーキット
DESCRIPTION:申し込みは開始してるのでうちのHPをご覧下さいm(_ _)mhttp://www.secretgarageseo.jp/ で、今年はグリップクラスとその他クラス（RBエンジン以外も募集）しております‼️ ドレスアップクラスも大募集他、ビンゴとかもご用意致しますので参加お待ちしております \n						\n				\n					\n		\n					\n		\n				\n						\n					\n			\n						\n				\n			\n\n		\n				\n				\n				\n			\n\n		\n				\n					\n		\n					\n		\n				\n						\n					\n			\n						\n				\n			開催地		\n				\n				\n				\n							日光サーキット 						\n				\n					\n		\n				\n			\n						\n				\n			主催者		\n				\n				\n				\n							シークレットガレージセオxxxr7bxxx@docomo.ne.jp 						\n				\n					\n		\n					\n		\n				\n						\n					\n			\n						\n				\n			お問い合わせ		\n				\n				\n				\n							One’s Garage担当：石井TEL：080-3094-0681Mail：info@onesgarage.com
URL:https://soukoukai-search.onesgarage.com/event/6052
LOCATION:日光サーキット\, 栃木県宇都宮市高松町984\, 栃木県\, 321-0416\, 日本
CATEGORIES:team六連星★彡,グリップ,日光サーキット
ATTACH;FMTTYPE=image/png:https://soukoukai-search.onesgarage.com/wp-content/uploads/2025/03/rokurensei.png
END:VEVENT
BEGIN:VEVENT
DTSTART;VALUE=DATE:20251208
DTEND;VALUE=DATE:20251209
DTSTAMP:20260421T114338
CREATED:20251106T142139Z
LAST-MODIFIED:20251107T134431Z
UID:6059-1765152000-1765238399@soukoukai-search.onesgarage.com
SUMMARY:富士マルパ１日フリー走行会　feat. Butcher Style Racing
DESCRIPTION:申し込みは開始してるのでうちのHPをご覧下さいm(_ _)mhttp://www.secretgarageseo.jp/ で、今年はグリップクラスとその他クラス（RBエンジン以外も募集）しております‼️ ドレスアップクラスも大募集他、ビンゴとかもご用意致しますので参加お待ちしております \n						\n				\n					\n		\n					\n		\n				\n						\n					\n			\n						\n				\n			\n\n		\n				\n				\n				\n			\n\n		\n				\n					\n		\n					\n		\n				\n						\n					\n			\n						\n				\n			開催地		\n				\n				\n				\n							日光サーキット 						\n				\n					\n		\n				\n			\n						\n				\n			主催者		\n				\n				\n				\n							シークレットガレージセオxxxr7bxxx@docomo.ne.jp 						\n				\n					\n		\n					\n		\n				\n						\n					\n			\n						\n				\n			お問い合わせ		\n				\n				\n				\n							One’s Garage担当：石井TEL：080-3094-0681Mail：info@onesgarage.com
URL:https://soukoukai-search.onesgarage.com/event/6059
LOCATION:富士スピードウェイ\, 静岡県駿東郡小山町中日向６９４\, 静岡県\, 410-1307\, 日本
CATEGORIES:One's Garage,ドリフト,マルチパーパスコース
ATTACH;FMTTYPE=image/jpeg:https://soukoukai-search.onesgarage.com/wp-content/uploads/2025/11/20251208_FSW_ドリフトフリー走行会.jpg
END:VEVENT
BEGIN:VEVENT
DTSTART;TZID=Asia/Tokyo:20260315T140000
DTEND;TZID=Asia/Tokyo:20260315T160000
DTSTAMP:20260421T114338
CREATED:20260106T071912Z
LAST-MODIFIED:20260106T072144Z
UID:6067-1773583200-1773590400@soukoukai-search.onesgarage.com
SUMMARY:激安RemixFreeRun　vol.4! TC2000ドリフト＆グリップ走行会
DESCRIPTION:申し込みは開始してるのでうちのHPをご覧下さいm(_ _)mhttp://www.secretgarageseo.jp/ で、今年はグリップクラスとその他クラス（RBエンジン以外も募集）しております‼️ ドレスアップクラスも大募集他、ビンゴとかもご用意致しますので参加お待ちしております \n						\n				\n					\n		\n					\n		\n				\n						\n					\n			\n						\n				\n			\n\n		\n				\n				\n				\n			\n\n		\n				\n					\n		\n					\n		\n				\n						\n					\n			\n						\n				\n			開催地		\n				\n				\n				\n							日光サーキット 						\n				\n					\n		\n				\n			\n						\n				\n			主催者		\n				\n				\n				\n							シークレットガレージセオxxxr7bxxx@docomo.ne.jp 						\n				\n					\n		\n					\n		\n				\n						\n					\n			\n						\n				\n			お問い合わせ		\n				\n				\n				\n							One’s Garage担当：石井TEL：080-3094-0681Mail：info@onesgarage.com
URL:https://soukoukai-search.onesgarage.com/event/6067
LOCATION:筑波サーキット\, 茨城県下妻市村岡 乙１５９\, 茨城県\, 304-0824\, 日本
CATEGORIES:Remix,TC2000,グリップ,ドリフト
ATTACH;FMTTYPE=image/jpeg:https://soukoukai-search.onesgarage.com/wp-content/uploads/2019/10/twittercard.jpg
END:VEVENT
BEGIN:VEVENT
DTSTART;VALUE=DATE:20260425
DTEND;VALUE=DATE:20260426
DTSTAMP:20260421T114338
CREATED:20260322T082352Z
LAST-MODIFIED:20260322T083022Z
UID:6079-1777075200-1777161599@soukoukai-search.onesgarage.com
SUMMARY:Remix Free Run vol.５！TC2000走行会
DESCRIPTION:申し込みは開始してるのでうちのHPをご覧下さいm(_ _)mhttp://www.secretgarageseo.jp/ で、今年はグリップクラスとその他クラス（RBエンジン以外も募集）しております‼️ ドレスアップクラスも大募集他、ビンゴとかもご用意致しますので参加お待ちしております \n						\n				\n					\n		\n					\n		\n				\n						\n					\n			\n						\n				\n			\n\n		\n				\n				\n				\n			\n\n		\n				\n					\n		\n					\n		\n				\n						\n					\n			\n						\n				\n			開催地		\n				\n				\n				\n							日光サーキット 						\n				\n					\n		\n				\n			\n						\n				\n			主催者		\n				\n				\n				\n							シークレットガレージセオxxxr7bxxx@docomo.ne.jp 						\n				\n					\n		\n					\n		\n				\n						\n					\n			\n						\n				\n			お問い合わせ		\n				\n				\n				\n							One’s Garage担当：石井TEL：080-3094-0681Mail：info@onesgarage.com
URL:https://soukoukai-search.onesgarage.com/event/6079
LOCATION:筑波サーキット\, 茨城県下妻市村岡 乙１５９\, 茨城県\, 304-0824\, 日本
CATEGORIES:Remix,TC2000,グリップ,ドリフト
ATTACH;FMTTYPE=image/jpeg:https://soukoukai-search.onesgarage.com/wp-content/uploads/2019/10/twittercard.jpg
END:VEVENT
BEGIN:VEVENT
DTSTART;VALUE=DATE:20260426
DTEND;VALUE=DATE:20260427
DTSTAMP:20260421T114338
CREATED:20260211T232404Z
LAST-MODIFIED:20260211T232619Z
UID:6073-1777161600-1777247999@soukoukai-search.onesgarage.com
SUMMARY:チャレンジサーキット
DESCRIPTION:申し込みは開始してるのでうちのHPをご覧下さいm(_ _)mhttp://www.secretgarageseo.jp/ で、今年はグリップクラスとその他クラス（RBエンジン以外も募集）しております‼️ ドレスアップクラスも大募集他、ビンゴとかもご用意致しますので参加お待ちしております \n						\n				\n					\n		\n					\n		\n				\n						\n					\n			\n						\n				\n			\n\n		\n				\n				\n				\n			\n\n		\n				\n					\n		\n					\n		\n				\n						\n					\n			\n						\n				\n			開催地		\n				\n				\n				\n							日光サーキット 						\n				\n					\n		\n				\n			\n						\n				\n			主催者		\n				\n				\n				\n							シークレットガレージセオxxxr7bxxx@docomo.ne.jp 						\n				\n					\n		\n					\n		\n				\n						\n					\n			\n						\n				\n			お問い合わせ		\n				\n				\n				\n							One’s Garage担当：石井TEL：080-3094-0681Mail：info@onesgarage.com
URL:https://soukoukai-search.onesgarage.com/event/6073
LOCATION:日光サーキット\, 栃木県宇都宮市高松町984\, 栃木県\, 321-0416\, 日本
CATEGORIES:チャレンジサーキット,二輪,日光サーキット
ATTACH;FMTTYPE=image/jpeg:https://soukoukai-search.onesgarage.com/wp-content/uploads/2019/10/twittercard.jpg
END:VEVENT
BEGIN:VEVENT
DTSTART;VALUE=DATE:20260718
DTEND;VALUE=DATE:20260719
DTSTAMP:20260421T114338
CREATED:20260322T082836Z
LAST-MODIFIED:20260322T083015Z
UID:6084-1784332800-1784419199@soukoukai-search.onesgarage.com
SUMMARY:Remix Free Run vol.６！TC2000 走行会
DESCRIPTION:申し込みは開始してるのでうちのHPをご覧下さいm(_ _)mhttp://www.secretgarageseo.jp/ で、今年はグリップクラスとその他クラス（RBエンジン以外も募集）しております‼️ ドレスアップクラスも大募集他、ビンゴとかもご用意致しますので参加お待ちしております \n						\n				\n					\n		\n					\n		\n				\n						\n					\n			\n						\n				\n			\n\n		\n				\n				\n				\n			\n\n		\n				\n					\n		\n					\n		\n				\n						\n					\n			\n						\n				\n			開催地		\n				\n				\n				\n							日光サーキット 						\n				\n					\n		\n				\n			\n						\n				\n			主催者		\n				\n				\n				\n							シークレットガレージセオxxxr7bxxx@docomo.ne.jp 						\n				\n					\n		\n					\n		\n				\n						\n					\n			\n						\n				\n			お問い合わせ		\n				\n				\n				\n							One’s Garage担当：石井TEL：080-3094-0681Mail：info@onesgarage.com
URL:https://soukoukai-search.onesgarage.com/event/6084
LOCATION:筑波サーキット\, 茨城県下妻市村岡 乙１５９\, 茨城県\, 304-0824\, 日本
CATEGORIES:Remix,TC2000,グリップ,ドリフト
ATTACH;FMTTYPE=image/jpeg:https://soukoukai-search.onesgarage.com/wp-content/uploads/2019/10/twittercard.jpg
END:VEVENT
END:VCALENDAR