BEGIN:VCALENDAR
VERSION:2.0
PRODID:-//見つける！走行会サーチ - ECPv6.6.0.2//NONSGML v1.0//EN
CALSCALE:GREGORIAN
METHOD:PUBLISH
X-WR-CALNAME:見つける！走行会サーチ
X-ORIGINAL-URL:https://soukoukai-search.onesgarage.com
X-WR-CALDESC:見つける！走行会サーチ のイベント
REFRESH-INTERVAL;VALUE=DURATION:PT1H
X-Robots-Tag:noindex
X-PUBLISHED-TTL:PT1H
BEGIN:VTIMEZONE
TZID:Asia/Tokyo
BEGIN:STANDARD
TZOFFSETFROM:+0900
TZOFFSETTO:+0900
TZNAME:JST
DTSTART:20190101T000000
END:STANDARD
END:VTIMEZONE
BEGIN:VEVENT
DTSTART;TZID=Asia/Tokyo:20191229T150000
DTEND;TZID=Asia/Tokyo:20191229T193000
DTSTAMP:20260422T202953
CREATED:20191026T055505Z
LAST-MODIFIED:20191031T231841Z
UID:243-1577631600-1577647800@soukoukai-search.onesgarage.com
SUMMARY:K.A.MSP 年末走り納めレース！！
DESCRIPTION:申し込みは開始してるのでうちのHPをご覧下さいm(_ _)mhttp://www.secretgarageseo.jp/ で、今年はグリップクラスとその他クラス（RBエンジン以外も募集）しております‼️ ドレスアップクラスも大募集他、ビンゴとかもご用意致しますので参加お待ちしております \n						\n				\n					\n		\n					\n		\n				\n						\n					\n			\n						\n				\n			\n\n		\n				\n				\n				\n			\n\n		\n				\n					\n		\n					\n		\n				\n						\n					\n			\n						\n				\n			開催地		\n				\n				\n				\n							日光サーキット 						\n				\n					\n		\n				\n			\n						\n				\n			主催者		\n				\n				\n				\n							シークレットガレージセオxxxr7bxxx@docomo.ne.jp 						\n				\n					\n		\n					\n		\n				\n						\n					\n			\n						\n				\n			お問い合わせ		\n				\n				\n				\n							One’s Garage担当：石井TEL：080-3094-0681Mail：info@onesgarage.com
URL:https://soukoukai-search.onesgarage.com/event/243
LOCATION:新東京サーキット\, 市原市引田249\, 290-0256\, 日本
CATEGORIES:K.A.モータースポーツプロジェクト,カートレース,新東京サーキット
ATTACH;FMTTYPE=image/jpeg:https://soukoukai-search.onesgarage.com/wp-content/uploads/2019/10/IMG_2939_.jpg
END:VEVENT
BEGIN:VEVENT
DTSTART;TZID=Asia/Tokyo:20191221T000000
DTEND;TZID=Asia/Tokyo:20191221T235959
DTSTAMP:20260422T202953
CREATED:20191115T005351Z
LAST-MODIFIED:20191115T005352Z
UID:294-1576886400-1576972799@soukoukai-search.onesgarage.com
SUMMARY:絆MAX!ひろ走
DESCRIPTION:申し込みは開始してるのでうちのHPをご覧下さいm(_ _)mhttp://www.secretgarageseo.jp/ で、今年はグリップクラスとその他クラス（RBエンジン以外も募集）しております‼️ ドレスアップクラスも大募集他、ビンゴとかもご用意致しますので参加お待ちしております \n						\n				\n					\n		\n					\n		\n				\n						\n					\n			\n						\n				\n			\n\n		\n				\n				\n				\n			\n\n		\n				\n					\n		\n					\n		\n				\n						\n					\n			\n						\n				\n			開催地		\n				\n				\n				\n							日光サーキット 						\n				\n					\n		\n				\n			\n						\n				\n			主催者		\n				\n				\n				\n							シークレットガレージセオxxxr7bxxx@docomo.ne.jp 						\n				\n					\n		\n					\n		\n				\n						\n					\n			\n						\n				\n			お問い合わせ		\n				\n				\n				\n							One’s Garage担当：石井TEL：080-3094-0681Mail：info@onesgarage.com
URL:https://soukoukai-search.onesgarage.com/event/294
LOCATION:富士スピードウェイ\, 静岡県駿東郡小山町中日向６９４\, 静岡県\, 410-1307\, 日本
CATEGORIES:ひろ走,ドリフト,マルチパーパスコース
END:VEVENT
BEGIN:VEVENT
DTSTART;TZID=Asia/Tokyo:20191128T080000
DTEND;TZID=Asia/Tokyo:20191128T170000
DTSTAMP:20260422T202953
CREATED:20191005T145543Z
LAST-MODIFIED:20191026T042911Z
UID:158-1574928000-1574960400@soukoukai-search.onesgarage.com
SUMMARY:K.A.MSP 日光サーキット走行会！
DESCRIPTION:申し込みは開始してるのでうちのHPをご覧下さいm(_ _)mhttp://www.secretgarageseo.jp/ で、今年はグリップクラスとその他クラス（RBエンジン以外も募集）しております‼️ ドレスアップクラスも大募集他、ビンゴとかもご用意致しますので参加お待ちしております \n						\n				\n					\n		\n					\n		\n				\n						\n					\n			\n						\n				\n			\n\n		\n				\n				\n				\n			\n\n		\n				\n					\n		\n					\n		\n				\n						\n					\n			\n						\n				\n			開催地		\n				\n				\n				\n							日光サーキット 						\n				\n					\n		\n				\n			\n						\n				\n			主催者		\n				\n				\n				\n							シークレットガレージセオxxxr7bxxx@docomo.ne.jp 						\n				\n					\n		\n					\n		\n				\n						\n					\n			\n						\n				\n			お問い合わせ		\n				\n				\n				\n							One’s Garage担当：石井TEL：080-3094-0681Mail：info@onesgarage.com
URL:https://soukoukai-search.onesgarage.com/event/158
LOCATION:日光サーキット\, 栃木県宇都宮市高松町984\, 栃木県\, 321-0416\, 日本
CATEGORIES:K.A.モータースポーツプロジェクト,グリップ,ドリフト,日光サーキット
ATTACH;FMTTYPE=image/jpeg:https://soukoukai-search.onesgarage.com/wp-content/uploads/2019/10/S__76021772.jpg
END:VEVENT
BEGIN:VEVENT
DTSTART;TZID=Asia/Tokyo:20191126T000000
DTEND;TZID=Asia/Tokyo:20191126T235900
DTSTAMP:20260422T202953
CREATED:20191015T141253Z
LAST-MODIFIED:20191015T141353Z
UID:219-1574726400-1574812740@soukoukai-search.onesgarage.com
SUMMARY:プロアイズ走行会
DESCRIPTION:申し込みは開始してるのでうちのHPをご覧下さいm(_ _)mhttp://www.secretgarageseo.jp/ で、今年はグリップクラスとその他クラス（RBエンジン以外も募集）しております‼️ ドレスアップクラスも大募集他、ビンゴとかもご用意致しますので参加お待ちしております \n						\n				\n					\n		\n					\n		\n				\n						\n					\n			\n						\n				\n			\n\n		\n				\n				\n				\n			\n\n		\n				\n					\n		\n					\n		\n				\n						\n					\n			\n						\n				\n			開催地		\n				\n				\n				\n							日光サーキット 						\n				\n					\n		\n				\n			\n						\n				\n			主催者		\n				\n				\n				\n							シークレットガレージセオxxxr7bxxx@docomo.ne.jp 						\n				\n					\n		\n					\n		\n				\n						\n					\n			\n						\n				\n			お問い合わせ		\n				\n				\n				\n							One’s Garage担当：石井TEL：080-3094-0681Mail：info@onesgarage.com
URL:https://soukoukai-search.onesgarage.com/event/219
LOCATION:筑波サーキット\, 茨城県下妻市村岡 乙１５９\, 茨城県\, 304-0824\, 日本
CATEGORIES:TC1000,グリップ,プロアイズ
END:VEVENT
BEGIN:VEVENT
DTSTART;TZID=Asia/Tokyo:20191125T080000
DTEND;TZID=Asia/Tokyo:20191125T170000
DTSTAMP:20260422T202953
CREATED:20191005T143839Z
LAST-MODIFIED:20191117T070127Z
UID:148-1574668800-1574701200@soukoukai-search.onesgarage.com
SUMMARY:KTS with YM GARAGE　走行会
DESCRIPTION:申し込みは開始してるのでうちのHPをご覧下さいm(_ _)mhttp://www.secretgarageseo.jp/ で、今年はグリップクラスとその他クラス（RBエンジン以外も募集）しております‼️ ドレスアップクラスも大募集他、ビンゴとかもご用意致しますので参加お待ちしております \n						\n				\n					\n		\n					\n		\n				\n						\n					\n			\n						\n				\n			\n\n		\n				\n				\n				\n			\n\n		\n				\n					\n		\n					\n		\n				\n						\n					\n			\n						\n				\n			開催地		\n				\n				\n				\n							日光サーキット 						\n				\n					\n		\n				\n			\n						\n				\n			主催者		\n				\n				\n				\n							シークレットガレージセオxxxr7bxxx@docomo.ne.jp 						\n				\n					\n		\n					\n		\n				\n						\n					\n			\n						\n				\n			お問い合わせ		\n				\n				\n				\n							One’s Garage担当：石井TEL：080-3094-0681Mail：info@onesgarage.com
URL:https://soukoukai-search.onesgarage.com/event/148
LOCATION:富士スピードウェイ\, 静岡県駿東郡小山町中日向６９４\, 静岡県\, 410-1307\, 日本
CATEGORIES:KTS,YM GARAGE,ドリフト,マルチパーパスコース
ATTACH;FMTTYPE=image/jpeg:https://soukoukai-search.onesgarage.com/wp-content/uploads/2019/10/IMG_4033.jpg
END:VEVENT
BEGIN:VEVENT
DTSTART;VALUE=DATE:20191117
DTEND;VALUE=DATE:20191118
DTSTAMP:20260422T202953
CREATED:20191015T140056Z
LAST-MODIFIED:20191015T140139Z
UID:211-1573948800-1574035199@soukoukai-search.onesgarage.com
SUMMARY:第8回たっちー走
DESCRIPTION:申し込みは開始してるのでうちのHPをご覧下さいm(_ _)mhttp://www.secretgarageseo.jp/ で、今年はグリップクラスとその他クラス（RBエンジン以外も募集）しております‼️ ドレスアップクラスも大募集他、ビンゴとかもご用意致しますので参加お待ちしております \n						\n				\n					\n		\n					\n		\n				\n						\n					\n			\n						\n				\n			\n\n		\n				\n				\n				\n			\n\n		\n				\n					\n		\n					\n		\n				\n						\n					\n			\n						\n				\n			開催地		\n				\n				\n				\n							日光サーキット 						\n				\n					\n		\n				\n			\n						\n				\n			主催者		\n				\n				\n				\n							シークレットガレージセオxxxr7bxxx@docomo.ne.jp 						\n				\n					\n		\n					\n		\n				\n						\n					\n			\n						\n				\n			お問い合わせ		\n				\n				\n				\n							One’s Garage担当：石井TEL：080-3094-0681Mail：info@onesgarage.com
URL:https://soukoukai-search.onesgarage.com/event/211
LOCATION:富士スピードウェイ\, 静岡県駿東郡小山町中日向６９４\, 静岡県\, 410-1307\, 日本
CATEGORIES:ドリフト,マルチパーパスコース,個人主催
END:VEVENT
BEGIN:VEVENT
DTSTART;VALUE=DATE:20191115
DTEND;VALUE=DATE:20191116
DTSTAMP:20260422T202953
CREATED:20191015T004020Z
LAST-MODIFIED:20191015T004020Z
UID:205-1573776000-1573862399@soukoukai-search.onesgarage.com
SUMMARY:【男子禁制】GDP走
DESCRIPTION:申し込みは開始してるのでうちのHPをご覧下さいm(_ _)mhttp://www.secretgarageseo.jp/ で、今年はグリップクラスとその他クラス（RBエンジン以外も募集）しております‼️ ドレスアップクラスも大募集他、ビンゴとかもご用意致しますので参加お待ちしております \n						\n				\n					\n		\n					\n		\n				\n						\n					\n			\n						\n				\n			\n\n		\n				\n				\n				\n			\n\n		\n				\n					\n		\n					\n		\n				\n						\n					\n			\n						\n				\n			開催地		\n				\n				\n				\n							日光サーキット 						\n				\n					\n		\n				\n			\n						\n				\n			主催者		\n				\n				\n				\n							シークレットガレージセオxxxr7bxxx@docomo.ne.jp 						\n				\n					\n		\n					\n		\n				\n						\n					\n			\n						\n				\n			お問い合わせ		\n				\n				\n				\n							One’s Garage担当：石井TEL：080-3094-0681Mail：info@onesgarage.com
URL:https://soukoukai-search.onesgarage.com/event/205
LOCATION:筑波サーキット\, 茨城県下妻市村岡 乙１５９\, 茨城県\, 304-0824\, 日本
CATEGORIES:個人主催,筑波サーキット,練習会
END:VEVENT
BEGIN:VEVENT
DTSTART;VALUE=DATE:20191110
DTEND;VALUE=DATE:20191111
DTSTAMP:20260422T202953
CREATED:20191008T002015Z
LAST-MODIFIED:20191008T002036Z
UID:180-1573344000-1573430399@soukoukai-search.onesgarage.com
SUMMARY:Street Performer × NIGHT VISION　走攻会
DESCRIPTION:申し込みは開始してるのでうちのHPをご覧下さいm(_ _)mhttp://www.secretgarageseo.jp/ で、今年はグリップクラスとその他クラス（RBエンジン以外も募集）しております‼️ ドレスアップクラスも大募集他、ビンゴとかもご用意致しますので参加お待ちしております \n						\n				\n					\n		\n					\n		\n				\n						\n					\n			\n						\n				\n			\n\n		\n				\n				\n				\n			\n\n		\n				\n					\n		\n					\n		\n				\n						\n					\n			\n						\n				\n			開催地		\n				\n				\n				\n							日光サーキット 						\n				\n					\n		\n				\n			\n						\n				\n			主催者		\n				\n				\n				\n							シークレットガレージセオxxxr7bxxx@docomo.ne.jp 						\n				\n					\n		\n					\n		\n				\n						\n					\n			\n						\n				\n			お問い合わせ		\n				\n				\n				\n							One’s Garage担当：石井TEL：080-3094-0681Mail：info@onesgarage.com
URL:https://soukoukai-search.onesgarage.com/event/180
LOCATION:富士スピードウェイ\, 静岡県駿東郡小山町中日向６９４\, 静岡県\, 410-1307\, 日本
CATEGORIES:NIGHT VISION,Street Performer,ドリフト,マルチパーパスコース
END:VEVENT
BEGIN:VEVENT
DTSTART;TZID=Asia/Tokyo:20191108T080000
DTEND;TZID=Asia/Tokyo:20191108T170000
DTSTAMP:20260422T202953
CREATED:20191005T141703Z
LAST-MODIFIED:20191005T144744Z
UID:133-1573200000-1573232400@soukoukai-search.onesgarage.com
SUMMARY:Dreadnought 日光走行会
DESCRIPTION:申し込みは開始してるのでうちのHPをご覧下さいm(_ _)mhttp://www.secretgarageseo.jp/ で、今年はグリップクラスとその他クラス（RBエンジン以外も募集）しております‼️ ドレスアップクラスも大募集他、ビンゴとかもご用意致しますので参加お待ちしております \n						\n				\n					\n		\n					\n		\n				\n						\n					\n			\n						\n				\n			\n\n		\n				\n				\n				\n			\n\n		\n				\n					\n		\n					\n		\n				\n						\n					\n			\n						\n				\n			開催地		\n				\n				\n				\n							日光サーキット 						\n				\n					\n		\n				\n			\n						\n				\n			主催者		\n				\n				\n				\n							シークレットガレージセオxxxr7bxxx@docomo.ne.jp 						\n				\n					\n		\n					\n		\n				\n						\n					\n			\n						\n				\n			お問い合わせ		\n				\n				\n				\n							One’s Garage担当：石井TEL：080-3094-0681Mail：info@onesgarage.com
URL:https://soukoukai-search.onesgarage.com/event/133
LOCATION:日光サーキット\, 栃木県宇都宮市高松町984\, 栃木県\, 321-0416\, 日本
CATEGORIES:Dreadnought,グリップ,ドリフト,日光サーキット
ATTACH;FMTTYPE=image/jpeg:https://soukoukai-search.onesgarage.com/wp-content/uploads/2019/10/header.jpg
END:VEVENT
BEGIN:VEVENT
DTSTART;TZID=Asia/Tokyo:20191028T070000
DTEND;TZID=Asia/Tokyo:20191028T170000
DTSTAMP:20260422T202953
CREATED:20191003T013409Z
LAST-MODIFIED:20191005T144949Z
UID:72-1572246000-1572282000@soukoukai-search.onesgarage.com
SUMMARY:YM GARAGE "Drift" Meeting vol.2
DESCRIPTION:申し込みは開始してるのでうちのHPをご覧下さいm(_ _)mhttp://www.secretgarageseo.jp/ で、今年はグリップクラスとその他クラス（RBエンジン以外も募集）しております‼️ ドレスアップクラスも大募集他、ビンゴとかもご用意致しますので参加お待ちしております \n						\n				\n					\n		\n					\n		\n				\n						\n					\n			\n						\n				\n			\n\n		\n				\n				\n				\n			\n\n		\n				\n					\n		\n					\n		\n				\n						\n					\n			\n						\n				\n			開催地		\n				\n				\n				\n							日光サーキット 						\n				\n					\n		\n				\n			\n						\n				\n			主催者		\n				\n				\n				\n							シークレットガレージセオxxxr7bxxx@docomo.ne.jp 						\n				\n					\n		\n					\n		\n				\n						\n					\n			\n						\n				\n			お問い合わせ		\n				\n				\n				\n							One’s Garage担当：石井TEL：080-3094-0681Mail：info@onesgarage.com
URL:https://soukoukai-search.onesgarage.com/event/72
LOCATION:富士スピードウェイ\, 静岡県駿東郡小山町中日向６９４\, 静岡県\, 410-1307\, 日本
CATEGORIES:YM GARAGE,ジムカーナコース,練習会
ATTACH;FMTTYPE=image/jpeg:https://soukoukai-search.onesgarage.com/wp-content/uploads/2019/10/IMG_4983.jpg
END:VEVENT
BEGIN:VEVENT
DTSTART;VALUE=DATE:20191028
DTEND;VALUE=DATE:20191029
DTSTAMP:20260422T202953
CREATED:20191015T001454Z
LAST-MODIFIED:20191015T001454Z
UID:195-1572220800-1572307199@soukoukai-search.onesgarage.com
SUMMARY:第3回 湘南組 滑り練習会
DESCRIPTION:申し込みは開始してるのでうちのHPをご覧下さいm(_ _)mhttp://www.secretgarageseo.jp/ で、今年はグリップクラスとその他クラス（RBエンジン以外も募集）しております‼️ ドレスアップクラスも大募集他、ビンゴとかもご用意致しますので参加お待ちしております \n						\n				\n					\n		\n					\n		\n				\n						\n					\n			\n						\n				\n			\n\n		\n				\n				\n				\n			\n\n		\n				\n					\n		\n					\n		\n				\n						\n					\n			\n						\n				\n			開催地		\n				\n				\n				\n							日光サーキット 						\n				\n					\n		\n				\n			\n						\n				\n			主催者		\n				\n				\n				\n							シークレットガレージセオxxxr7bxxx@docomo.ne.jp 						\n				\n					\n		\n					\n		\n				\n						\n					\n			\n						\n				\n			お問い合わせ		\n				\n				\n				\n							One’s Garage担当：石井TEL：080-3094-0681Mail：info@onesgarage.com
URL:https://soukoukai-search.onesgarage.com/event/195
LOCATION:富士スピードウェイ\, 静岡県駿東郡小山町中日向６９４\, 静岡県\, 410-1307\, 日本
CATEGORIES:マルチパーパスコース,湘南組,練習会
END:VEVENT
BEGIN:VEVENT
DTSTART;VALUE=DATE:20191027
DTEND;VALUE=DATE:20191028
DTSTAMP:20260422T202953
CREATED:20191015T001708Z
LAST-MODIFIED:20191015T001708Z
UID:199-1572134400-1572220799@soukoukai-search.onesgarage.com
SUMMARY:GRANZ PROJECT　走行会
DESCRIPTION:申し込みは開始してるのでうちのHPをご覧下さいm(_ _)mhttp://www.secretgarageseo.jp/ で、今年はグリップクラスとその他クラス（RBエンジン以外も募集）しております‼️ ドレスアップクラスも大募集他、ビンゴとかもご用意致しますので参加お待ちしております \n						\n				\n					\n		\n					\n		\n				\n						\n					\n			\n						\n				\n			\n\n		\n				\n				\n				\n			\n\n		\n				\n					\n		\n					\n		\n				\n						\n					\n			\n						\n				\n			開催地		\n				\n				\n				\n							日光サーキット 						\n				\n					\n		\n				\n			\n						\n				\n			主催者		\n				\n				\n				\n							シークレットガレージセオxxxr7bxxx@docomo.ne.jp 						\n				\n					\n		\n					\n		\n				\n						\n					\n			\n						\n				\n			お問い合わせ		\n				\n				\n				\n							One’s Garage担当：石井TEL：080-3094-0681Mail：info@onesgarage.com
URL:https://soukoukai-search.onesgarage.com/event/199
LOCATION:富士スピードウェイ\, 静岡県駿東郡小山町中日向６９４\, 静岡県\, 410-1307\, 日本
CATEGORIES:GRANZ PROJECT,ドリフト,マルチパーパスコース
END:VEVENT
BEGIN:VEVENT
DTSTART;VALUE=DATE:20191026
DTEND;VALUE=DATE:20191027
DTSTAMP:20260422T202953
CREATED:20191008T001229Z
LAST-MODIFIED:20191008T001229Z
UID:174-1572048000-1572134399@soukoukai-search.onesgarage.com
SUMMARY:群サイ練習会 by青鬼
DESCRIPTION:申し込みは開始してるのでうちのHPをご覧下さいm(_ _)mhttp://www.secretgarageseo.jp/ で、今年はグリップクラスとその他クラス（RBエンジン以外も募集）しております‼️ ドレスアップクラスも大募集他、ビンゴとかもご用意致しますので参加お待ちしております \n						\n				\n					\n		\n					\n		\n				\n						\n					\n			\n						\n				\n			\n\n		\n				\n				\n				\n			\n\n		\n				\n					\n		\n					\n		\n				\n						\n					\n			\n						\n				\n			開催地		\n				\n				\n				\n							日光サーキット 						\n				\n					\n		\n				\n			\n						\n				\n			主催者		\n				\n				\n				\n							シークレットガレージセオxxxr7bxxx@docomo.ne.jp 						\n				\n					\n		\n					\n		\n				\n						\n					\n			\n						\n				\n			お問い合わせ		\n				\n				\n				\n							One’s Garage担当：石井TEL：080-3094-0681Mail：info@onesgarage.com
URL:https://soukoukai-search.onesgarage.com/event/174
LOCATION:群馬サイクルスポーツセンター\, 馬県利根郡みなかみ町新巻３８５３\, 群馬県\, 379-1411\, 日本
CATEGORIES:個人主催,練習会,群馬サイクルスポーツセンター
END:VEVENT
BEGIN:VEVENT
DTSTART;VALUE=DATE:20191020
DTEND;VALUE=DATE:20191021
DTSTAMP:20260422T202953
CREATED:20191008T000852Z
LAST-MODIFIED:20191008T000852Z
UID:170-1571529600-1571615999@soukoukai-search.onesgarage.com
SUMMARY:2＆4バリドリ天国
DESCRIPTION:申し込みは開始してるのでうちのHPをご覧下さいm(_ _)mhttp://www.secretgarageseo.jp/ で、今年はグリップクラスとその他クラス（RBエンジン以外も募集）しております‼️ ドレスアップクラスも大募集他、ビンゴとかもご用意致しますので参加お待ちしております \n						\n				\n					\n		\n					\n		\n				\n						\n					\n			\n						\n				\n			\n\n		\n				\n				\n				\n			\n\n		\n				\n					\n		\n					\n		\n				\n						\n					\n			\n						\n				\n			開催地		\n				\n				\n				\n							日光サーキット 						\n				\n					\n		\n				\n			\n						\n				\n			主催者		\n				\n				\n				\n							シークレットガレージセオxxxr7bxxx@docomo.ne.jp 						\n				\n					\n		\n					\n		\n				\n						\n					\n			\n						\n				\n			お問い合わせ		\n				\n				\n				\n							One’s Garage担当：石井TEL：080-3094-0681Mail：info@onesgarage.com
URL:https://soukoukai-search.onesgarage.com/event/170
LOCATION:茂原ツインサーキット\, 千葉県茂原市台田６４０\, 千葉県\, 297-0044\, 日本
CATEGORIES:ドリフト,バリドリスタッフ
END:VEVENT
BEGIN:VEVENT
DTSTART;VALUE=DATE:20191018
DTEND;VALUE=DATE:20191019
DTSTAMP:20260422T202953
CREATED:20191008T002204Z
LAST-MODIFIED:20191008T002204Z
UID:184-1571356800-1571443199@soukoukai-search.onesgarage.com
SUMMARY:Realstyle 走行会
DESCRIPTION:申し込みは開始してるのでうちのHPをご覧下さいm(_ _)mhttp://www.secretgarageseo.jp/ で、今年はグリップクラスとその他クラス（RBエンジン以外も募集）しております‼️ ドレスアップクラスも大募集他、ビンゴとかもご用意致しますので参加お待ちしております \n						\n				\n					\n		\n					\n		\n				\n						\n					\n			\n						\n				\n			\n\n		\n				\n				\n				\n			\n\n		\n				\n					\n		\n					\n		\n				\n						\n					\n			\n						\n				\n			開催地		\n				\n				\n				\n							日光サーキット 						\n				\n					\n		\n				\n			\n						\n				\n			主催者		\n				\n				\n				\n							シークレットガレージセオxxxr7bxxx@docomo.ne.jp 						\n				\n					\n		\n					\n		\n				\n						\n					\n			\n						\n				\n			お問い合わせ		\n				\n				\n				\n							One’s Garage担当：石井TEL：080-3094-0681Mail：info@onesgarage.com
URL:https://soukoukai-search.onesgarage.com/event/184
LOCATION:富士スピードウェイ\, 静岡県駿東郡小山町中日向６９４\, 静岡県\, 410-1307\, 日本
CATEGORIES:Realstyle,ドリフト,マルチパーパスコース
END:VEVENT
BEGIN:VEVENT
DTSTART;VALUE=DATE:20191016
DTEND;VALUE=DATE:20191017
DTSTAMP:20260422T202953
CREATED:20191008T002347Z
LAST-MODIFIED:20191008T002347Z
UID:187-1571184000-1571270399@soukoukai-search.onesgarage.com
SUMMARY:ドリフト＆グリップ走行会
DESCRIPTION:申し込みは開始してるのでうちのHPをご覧下さいm(_ _)mhttp://www.secretgarageseo.jp/ で、今年はグリップクラスとその他クラス（RBエンジン以外も募集）しております‼️ ドレスアップクラスも大募集他、ビンゴとかもご用意致しますので参加お待ちしております \n						\n				\n					\n		\n					\n		\n				\n						\n					\n			\n						\n				\n			\n\n		\n				\n				\n				\n			\n\n		\n				\n					\n		\n					\n		\n				\n						\n					\n			\n						\n				\n			開催地		\n				\n				\n				\n							日光サーキット 						\n				\n					\n		\n				\n			\n						\n				\n			主催者		\n				\n				\n				\n							シークレットガレージセオxxxr7bxxx@docomo.ne.jp 						\n				\n					\n		\n					\n		\n				\n						\n					\n			\n						\n				\n			お問い合わせ		\n				\n				\n				\n							One’s Garage担当：石井TEL：080-3094-0681Mail：info@onesgarage.com
URL:https://soukoukai-search.onesgarage.com/event/187
LOCATION:日光サーキット\, 栃木県宇都宮市高松町984\, 栃木県\, 321-0416\, 日本
CATEGORIES:YMS,グリップ,ドリフト,日光サーキット
END:VEVENT
BEGIN:VEVENT
DTSTART;VALUE=DATE:20191013
DTEND;VALUE=DATE:20191014
DTSTAMP:20260422T202953
CREATED:20191008T002601Z
LAST-MODIFIED:20191008T002601Z
UID:190-1570924800-1571011199@soukoukai-search.onesgarage.com
SUMMARY:TEC-ART’S　サーキットフェスティバル2019
DESCRIPTION:申し込みは開始してるのでうちのHPをご覧下さいm(_ _)mhttp://www.secretgarageseo.jp/ で、今年はグリップクラスとその他クラス（RBエンジン以外も募集）しております‼️ ドレスアップクラスも大募集他、ビンゴとかもご用意致しますので参加お待ちしております \n						\n				\n					\n		\n					\n		\n				\n						\n					\n			\n						\n				\n			\n\n		\n				\n				\n				\n			\n\n		\n				\n					\n		\n					\n		\n				\n						\n					\n			\n						\n				\n			開催地		\n				\n				\n				\n							日光サーキット 						\n				\n					\n		\n				\n			\n						\n				\n			主催者		\n				\n				\n				\n							シークレットガレージセオxxxr7bxxx@docomo.ne.jp 						\n				\n					\n		\n					\n		\n				\n						\n					\n			\n						\n				\n			お問い合わせ		\n				\n				\n				\n							One’s Garage担当：石井TEL：080-3094-0681Mail：info@onesgarage.com
URL:https://soukoukai-search.onesgarage.com/event/190
LOCATION:日光サーキット\, 栃木県宇都宮市高松町984\, 栃木県\, 321-0416\, 日本
CATEGORIES:TEC-ART'S,グリップ,ドリフト,日光サーキット
END:VEVENT
END:VCALENDAR